BEGIN:VCALENDAR
VERSION:2.0
PRODID:-//ChamberMaster//Event Calendar 2.0//EN
METHOD:PUBLISH
X-PUBLISHED-TTL:P3D
REFRESH-INTERVAL:P3D
CALSCALE:GREGORIAN
BEGIN:VEVENT
DTSTART:20260618T184500Z
DTEND:20260618T201500Z
X-MICROSOFT-CDO-ALLDAYEVENT:FALSE
SUMMARY:2026.06.18 - Business Luncheon - Marshall Foundation for Community Health
DESCRIPTION:Our monthly business luncheon Is held at Red Hawk Casino - KOTO BUFFET\, which is typically held on the third Thursday of the month. Our luncheons have a member attendance of 60 to 70 individuals. Networking begins at 11:45 am\, followed by the meeting at noon. Each month\, we have a new guest speaker who brings valuable insights. The chamber business luncheons provide an excellent platform to connect with other members of the business community and exchange information. Make the most of your chamber membership by forging new connections
X-ALT-DESC;FMTTYPE=text/html:<span style="color: rgb(68\, 68\, 68)\; font-family: arial\; font-size: 14px\;">&nbsp\;Our monthly business luncheon Is held at Red Hawk Casino - KOTO BUFFET\, which is typically held on the third Thursday of the month. Our luncheons have a member attendance of 60 to 70 individuals. Networking begins at 11:45 am\, followed by the meeting at noon. Each month\, we have a new guest speaker who brings valuable insights. The chamber business luncheons provide an excellent platform to connect with other members of the business community and exchange information. Make the most of your chamber membership by forging new connections</span>
LOCATION:Red Hawk Casino Koto Buffet 1st floor
UID:e.1468.1501
SEQUENCE:3
DTSTAMP:20260423T033547Z
URL:https://business.eldoradocounty.org/events/details/2026-06-18-business-luncheon-marshall-foundation-for-community-health-1501
END:VEVENT

END:VCALENDAR
