BEGIN:VCALENDAR
VERSION:2.0
PRODID:-//ChamberMaster//Event Calendar 2.0//EN
METHOD:PUBLISH
X-PUBLISHED-TTL:P3D
REFRESH-INTERVAL:P3D
CALSCALE:GREGORIAN
BEGIN:VEVENT
DTSTART:20261113T013000Z
DTEND:20261113T033000Z
X-MICROSOFT-CDO-ALLDAYEVENT:FALSE
SUMMARY:2026.11.12 Mixer - Cappelli Wines/Kitchen Goods Collaborative Mixer
DESCRIPTION:Join us every month for our Chamber Mixer! These exciting events take place at various member locations\, offering you a chance to explore different venues while enjoying a delightful evening. Indulge in the no host bar\, savor delicious appetizers\, and participate in our thrilling raffle. There's no need to worry about a dress code ? simply wear something that represents your brand or business. No reservations required! Don't miss out on this fantastic opportunity to meet new people\, expand your network\, discover fresh opportunities\, raise awareness for your business\, and connect with fellow professionals.
X-ALT-DESC;FMTTYPE=text/html:<span style="font-family:comic sans ms\;"><span style="font-size:14px\;">Join us every month for our Chamber Mixer! These exciting events take place at various member locations\, offering you a chance to explore different venues while enjoying a delightful evening. Indulge in the no host bar\, savor delicious appetizers\, and participate in our thrilling raffle. There&#39\;s no need to worry about a dress code ? simply wear something that represents your brand or business. No reservations required! Don&#39\;t miss out on this fantastic opportunity to meet new people\, expand your network\, discover fresh opportunities\, raise awareness for your business\, and connect with fellow professionals.</span></span><br />\n&nbsp\;
LOCATION:Cappelli Wines/Kitchen Goods Collaborative Mixer 492 Main Street Placerville\, CA 95667
UID:e.1468.1505
SEQUENCE:3
DTSTAMP:20260423T033350Z
URL:https://business.eldoradocounty.org/events/details/2026-11-12-mixer-cappelli-wines-kitchen-goods-collaborative-mixer-1505
END:VEVENT

END:VCALENDAR
